BEGIN:VCALENDAR
VERSION:2.0
PRODID:-//Triumph Brewing Company - ECPv6.15.20//NONSGML v1.0//EN
CALSCALE:GREGORIAN
METHOD:PUBLISH
X-WR-CALNAME:Triumph Brewing Company
X-ORIGINAL-URL:https://www.triumphbrewing.com
X-WR-CALDESC:Events for Triumph Brewing Company
REFRESH-INTERVAL;VALUE=DURATION:PT1H
X-Robots-Tag:noindex
X-PUBLISHED-TTL:PT1H
BEGIN:VTIMEZONE
TZID:America/New_York
BEGIN:DAYLIGHT
TZOFFSETFROM:-0500
TZOFFSETTO:-0400
TZNAME:EDT
DTSTART:20240310T070000
END:DAYLIGHT
BEGIN:STANDARD
TZOFFSETFROM:-0400
TZOFFSETTO:-0500
TZNAME:EST
DTSTART:20241103T060000
END:STANDARD
BEGIN:DAYLIGHT
TZOFFSETFROM:-0500
TZOFFSETTO:-0400
TZNAME:EDT
DTSTART:20250309T070000
END:DAYLIGHT
BEGIN:STANDARD
TZOFFSETFROM:-0400
TZOFFSETTO:-0500
TZNAME:EST
DTSTART:20251102T060000
END:STANDARD
BEGIN:DAYLIGHT
TZOFFSETFROM:-0500
TZOFFSETTO:-0400
TZNAME:EDT
DTSTART:20260308T070000
END:DAYLIGHT
BEGIN:STANDARD
TZOFFSETFROM:-0400
TZOFFSETTO:-0500
TZNAME:EST
DTSTART:20261101T060000
END:STANDARD
END:VTIMEZONE
BEGIN:VEVENT
DTSTART;TZID=America/New_York:20250331T180000
DTEND;TZID=America/New_York:20250414T200000
DTSTAMP:20260421T063540
CREATED:20241126T203856Z
LAST-MODIFIED:20241126T203856Z
UID:10003940-1743444000-1744660800@www.triumphbrewing.com
SUMMARY:Jazz Arts Sessions
DESCRIPTION:
URL:https://www.triumphbrewing.com/event/jazz-arts-sessions/2025-03-31/
LOCATION:NJ
END:VEVENT
BEGIN:VEVENT
DTSTART;TZID=America/New_York:20250407T180000
DTEND;TZID=America/New_York:20250421T200000
DTSTAMP:20260421T063540
CREATED:20241126T203856Z
LAST-MODIFIED:20241126T203856Z
UID:10003941-1744048800-1745265600@www.triumphbrewing.com
SUMMARY:Jazz Arts Sessions
DESCRIPTION:
URL:https://www.triumphbrewing.com/event/jazz-arts-sessions/2025-04-07/
LOCATION:NJ
END:VEVENT
BEGIN:VEVENT
DTSTART;TZID=America/New_York:20250413T130000
DTEND;TZID=America/New_York:20250413T160000
DTSTAMP:20260421T063540
CREATED:20250320T224140Z
LAST-MODIFIED:20250320T224140Z
UID:10004350-1744549200-1744560000@www.triumphbrewing.com
SUMMARY:Rockwell Valentine Trio
DESCRIPTION:
URL:https://www.triumphbrewing.com/event/rockwell-valentine-trio/
LOCATION:Triumph Red Bank\, 1 Bridge Avenue\, Red Bank\, NJ\, 07701\, United States
CATEGORIES:Red Bank
END:VEVENT
BEGIN:VEVENT
DTSTART;TZID=America/New_York:20250413T130000
DTEND;TZID=America/New_York:20250413T160000
DTSTAMP:20260421T063540
CREATED:20250320T230920Z
LAST-MODIFIED:20250320T230920Z
UID:10004371-1744549200-1744560000@www.triumphbrewing.com
SUMMARY:Rachel and Ty
DESCRIPTION:
URL:https://www.triumphbrewing.com/event/rachel-and-ty-2/
LOCATION:Triumph New Hope\, 400 Union Square Drive\, New Hope\, PA\, 18938\, United States
CATEGORIES:New Hope
GEO:40.365873;-74.9543531
X-APPLE-STRUCTURED-LOCATION;VALUE=URI;X-ADDRESS=Triumph New Hope 400 Union Square Drive New Hope PA 18938 United States;X-APPLE-RADIUS=500;X-TITLE=400 Union Square Drive:geo:-74.9543531,40.365873
END:VEVENT
BEGIN:VEVENT
DTSTART;TZID=America/New_York:20250414T180000
DTEND;TZID=America/New_York:20250428T200000
DTSTAMP:20260421T063540
CREATED:20241126T203856Z
LAST-MODIFIED:20241126T203856Z
UID:10003942-1744653600-1745870400@www.triumphbrewing.com
SUMMARY:Jazz Arts Sessions
DESCRIPTION:
URL:https://www.triumphbrewing.com/event/jazz-arts-sessions/2025-04-14/
LOCATION:NJ
END:VEVENT
BEGIN:VEVENT
DTSTART;TZID=America/New_York:20250416T190000
DTEND;TZID=America/New_York:20250416T213000
DTSTAMP:20260421T063540
CREATED:20250403T202114Z
LAST-MODIFIED:20250403T202114Z
UID:10004379-1744830000-1744839000@www.triumphbrewing.com
SUMMARY:Jazz Café-Bruce Williams
DESCRIPTION:Jazz Café Tickets- Bruce Williams
URL:https://www.triumphbrewing.com/event/jazz-cafe-bruce-williams/
LOCATION:Triumph Red Bank\, 1 Bridge Avenue\, Red Bank\, NJ\, 07701\, United States
CATEGORIES:Red Bank
END:VEVENT
BEGIN:VEVENT
DTSTART;TZID=America/New_York:20250417T193000
DTEND;TZID=America/New_York:20250417T223000
DTSTAMP:20260421T063540
CREATED:20250320T224233Z
LAST-MODIFIED:20250320T224233Z
UID:10004351-1744918200-1744929000@www.triumphbrewing.com
SUMMARY:Nat Janoff Trio
DESCRIPTION:
URL:https://www.triumphbrewing.com/event/nat-janoff-trio-20/
LOCATION:Triumph Red Bank\, 1 Bridge Avenue\, Red Bank\, NJ\, 07701\, United States
CATEGORIES:Red Bank
END:VEVENT
BEGIN:VEVENT
DTSTART;TZID=America/New_York:20250418T170000
DTEND;TZID=America/New_York:20250418T200000
DTSTAMP:20260421T063540
CREATED:20250320T225551Z
LAST-MODIFIED:20250320T225551Z
UID:10004362-1744995600-1745006400@www.triumphbrewing.com
SUMMARY:Mike Noordzy Trio
DESCRIPTION:
URL:https://www.triumphbrewing.com/event/mike-noordzy-trio-22/
LOCATION:Triumph Princeton\, 20 Palmer Square East\, Princeton\, NJ\, 08542\, United States
CATEGORIES:Princeton
END:VEVENT
BEGIN:VEVENT
DTSTART;TZID=America/New_York:20250418T200000
DTEND;TZID=America/New_York:20250418T230000
DTSTAMP:20260421T063540
CREATED:20250320T231033Z
LAST-MODIFIED:20250320T231112Z
UID:10004372-1745006400-1745017200@www.triumphbrewing.com
SUMMARY:Cody McCorry
DESCRIPTION:
URL:https://www.triumphbrewing.com/event/cody-mccorry-2/
LOCATION:Triumph New Hope\, 400 Union Square Drive\, New Hope\, PA\, 18938\, United States
CATEGORIES:New Hope
GEO:40.365873;-74.9543531
X-APPLE-STRUCTURED-LOCATION;VALUE=URI;X-ADDRESS=Triumph New Hope 400 Union Square Drive New Hope PA 18938 United States;X-APPLE-RADIUS=500;X-TITLE=400 Union Square Drive:geo:-74.9543531,40.365873
END:VEVENT
BEGIN:VEVENT
DTSTART;TZID=America/New_York:20250418T210000
DTEND;TZID=America/New_York:20250418T233000
DTSTAMP:20260421T063540
CREATED:20250320T224335Z
LAST-MODIFIED:20250320T224335Z
UID:10004352-1745010000-1745019000@www.triumphbrewing.com
SUMMARY:Molly Grace
DESCRIPTION:
URL:https://www.triumphbrewing.com/event/molly-grace/
LOCATION:Triumph Red Bank\, 1 Bridge Avenue\, Red Bank\, NJ\, 07701\, United States
CATEGORIES:Red Bank
END:VEVENT
BEGIN:VEVENT
DTSTART;TZID=America/New_York:20250419T170000
DTEND;TZID=America/New_York:20250419T200000
DTSTAMP:20260421T063540
CREATED:20250320T225743Z
LAST-MODIFIED:20250320T225743Z
UID:10004363-1745082000-1745092800@www.triumphbrewing.com
SUMMARY:Keith Franklin Jazz Group
DESCRIPTION:
URL:https://www.triumphbrewing.com/event/keith-franklin-jazz-group-3/
LOCATION:Triumph Princeton\, 20 Palmer Square East\, Princeton\, NJ\, 08542\, United States
CATEGORIES:Princeton
END:VEVENT
BEGIN:VEVENT
DTSTART;TZID=America/New_York:20250419T200000
DTEND;TZID=America/New_York:20250419T230000
DTSTAMP:20260421T063540
CREATED:20250320T231148Z
LAST-MODIFIED:20250320T231148Z
UID:10004373-1745092800-1745103600@www.triumphbrewing.com
SUMMARY:Jay Sanford Band
DESCRIPTION:
URL:https://www.triumphbrewing.com/event/jay-sanford-band-2/
LOCATION:Triumph New Hope\, 400 Union Square Drive\, New Hope\, PA\, 18938\, United States
CATEGORIES:New Hope
GEO:40.365873;-74.9543531
X-APPLE-STRUCTURED-LOCATION;VALUE=URI;X-ADDRESS=Triumph New Hope 400 Union Square Drive New Hope PA 18938 United States;X-APPLE-RADIUS=500;X-TITLE=400 Union Square Drive:geo:-74.9543531,40.365873
END:VEVENT
BEGIN:VEVENT
DTSTART;TZID=America/New_York:20250419T203000
DTEND;TZID=America/New_York:20250419T233000
DTSTAMP:20260421T063540
CREATED:20250320T224426Z
LAST-MODIFIED:20250320T224426Z
UID:10004353-1745094600-1745105400@www.triumphbrewing.com
SUMMARY:Jeff Kazee
DESCRIPTION:
URL:https://www.triumphbrewing.com/event/jeff-kazee-2/
LOCATION:Triumph Red Bank\, 1 Bridge Avenue\, Red Bank\, NJ\, 07701\, United States
CATEGORIES:Red Bank
END:VEVENT
BEGIN:VEVENT
DTSTART;TZID=America/New_York:20250420T130000
DTEND;TZID=America/New_York:20250420T160000
DTSTAMP:20260421T063540
CREATED:20250320T231309Z
LAST-MODIFIED:20250320T231309Z
UID:10004374-1745154000-1745164800@www.triumphbrewing.com
SUMMARY:Billy Simmons
DESCRIPTION:
URL:https://www.triumphbrewing.com/event/billy-simmons-3/
LOCATION:Triumph New Hope\, 400 Union Square Drive\, New Hope\, PA\, 18938\, United States
CATEGORIES:New Hope
GEO:40.365873;-74.9543531
X-APPLE-STRUCTURED-LOCATION;VALUE=URI;X-ADDRESS=Triumph New Hope 400 Union Square Drive New Hope PA 18938 United States;X-APPLE-RADIUS=500;X-TITLE=400 Union Square Drive:geo:-74.9543531,40.365873
END:VEVENT
BEGIN:VEVENT
DTSTART;TZID=America/New_York:20250421T180000
DTEND;TZID=America/New_York:20250505T200000
DTSTAMP:20260421T063540
CREATED:20241126T203856Z
LAST-MODIFIED:20241126T203856Z
UID:10003943-1745258400-1746475200@www.triumphbrewing.com
SUMMARY:Jazz Arts Sessions
DESCRIPTION:
URL:https://www.triumphbrewing.com/event/jazz-arts-sessions/2025-04-21/
LOCATION:NJ
END:VEVENT
BEGIN:VEVENT
DTSTART;TZID=America/New_York:20250423T190000
DTEND;TZID=America/New_York:20250423T213000
DTSTAMP:20260421T063540
CREATED:20250403T202737Z
LAST-MODIFIED:20250403T202737Z
UID:10004380-1745434800-1745443800@www.triumphbrewing.com
SUMMARY:Jazz Café- Behn Gillece
DESCRIPTION:Jazz Café Tickets- Behn Gillece
URL:https://www.triumphbrewing.com/event/jazz-cafe-behn-gillece/
LOCATION:Triumph Red Bank\, 1 Bridge Avenue\, Red Bank\, NJ\, 07701\, United States
CATEGORIES:Red Bank
END:VEVENT
BEGIN:VEVENT
DTSTART;TZID=America/New_York:20250424T203000
DTEND;TZID=America/New_York:20250424T220000
DTSTAMP:20260421T063540
CREATED:20250320T224532Z
LAST-MODIFIED:20250320T224532Z
UID:10004354-1745526600-1745532000@www.triumphbrewing.com
SUMMARY:Ocean Ave Stompers
DESCRIPTION:
URL:https://www.triumphbrewing.com/event/ocean-ave-stompers-10/
LOCATION:Triumph Red Bank\, 1 Bridge Avenue\, Red Bank\, NJ\, 07701\, United States
CATEGORIES:Red Bank
END:VEVENT
BEGIN:VEVENT
DTSTART;TZID=America/New_York:20250425T170000
DTEND;TZID=America/New_York:20250425T200000
DTSTAMP:20260421T063540
CREATED:20250320T225827Z
LAST-MODIFIED:20250320T225827Z
UID:10004364-1745600400-1745611200@www.triumphbrewing.com
SUMMARY:J Green Trio
DESCRIPTION:
URL:https://www.triumphbrewing.com/event/j-green-trio-2/
LOCATION:Triumph Princeton\, 20 Palmer Square East\, Princeton\, NJ\, 08542\, United States
CATEGORIES:Princeton
END:VEVENT
BEGIN:VEVENT
DTSTART;TZID=America/New_York:20250425T210000
DTEND;TZID=America/New_York:20250425T233000
DTSTAMP:20260421T063540
CREATED:20250320T224618Z
LAST-MODIFIED:20250320T224618Z
UID:10004355-1745614800-1745623800@www.triumphbrewing.com
SUMMARY:iRon Lion
DESCRIPTION:
URL:https://www.triumphbrewing.com/event/iron-lion/
LOCATION:Triumph Red Bank\, 1 Bridge Avenue\, Red Bank\, NJ\, 07701\, United States
CATEGORIES:Red Bank
END:VEVENT
BEGIN:VEVENT
DTSTART;TZID=America/New_York:20250426T170000
DTEND;TZID=America/New_York:20250426T200000
DTSTAMP:20260421T063540
CREATED:20250320T225911Z
LAST-MODIFIED:20250320T225911Z
UID:10004365-1745686800-1745697600@www.triumphbrewing.com
SUMMARY:Private Label Quartet
DESCRIPTION:
URL:https://www.triumphbrewing.com/event/private-label-quartet/
LOCATION:Triumph Princeton\, 20 Palmer Square East\, Princeton\, NJ\, 08542\, United States
CATEGORIES:Princeton
END:VEVENT
BEGIN:VEVENT
DTSTART;TZID=America/New_York:20250426T200000
DTEND;TZID=America/New_York:20250426T230000
DTSTAMP:20260421T063540
CREATED:20250320T231417Z
LAST-MODIFIED:20250320T231417Z
UID:10004376-1745697600-1745708400@www.triumphbrewing.com
SUMMARY:Mosey Beat
DESCRIPTION:
URL:https://www.triumphbrewing.com/event/mosey-beat/
LOCATION:Triumph New Hope\, 400 Union Square Drive\, New Hope\, PA\, 18938\, United States
CATEGORIES:New Hope
GEO:40.365873;-74.9543531
X-APPLE-STRUCTURED-LOCATION;VALUE=URI;X-ADDRESS=Triumph New Hope 400 Union Square Drive New Hope PA 18938 United States;X-APPLE-RADIUS=500;X-TITLE=400 Union Square Drive:geo:-74.9543531,40.365873
END:VEVENT
BEGIN:VEVENT
DTSTART;TZID=America/New_York:20250426T203000
DTEND;TZID=America/New_York:20250426T233000
DTSTAMP:20260421T063540
CREATED:20250320T224726Z
LAST-MODIFIED:20250320T224726Z
UID:10004356-1745699400-1745710200@www.triumphbrewing.com
SUMMARY:Red123 Quintet
DESCRIPTION:
URL:https://www.triumphbrewing.com/event/red123-quintet/
LOCATION:Triumph Red Bank\, 1 Bridge Avenue\, Red Bank\, NJ\, 07701\, United States
CATEGORIES:Red Bank
END:VEVENT
BEGIN:VEVENT
DTSTART;TZID=America/New_York:20250427T130000
DTEND;TZID=America/New_York:20250427T160000
DTSTAMP:20260421T063540
CREATED:20250320T224816Z
LAST-MODIFIED:20250320T224816Z
UID:10004357-1745758800-1745769600@www.triumphbrewing.com
SUMMARY:Alex Owen Trio
DESCRIPTION:
URL:https://www.triumphbrewing.com/event/alex-owen-trio-9/
LOCATION:Triumph Red Bank\, 1 Bridge Avenue\, Red Bank\, NJ\, 07701\, United States
CATEGORIES:Red Bank
END:VEVENT
BEGIN:VEVENT
DTSTART;TZID=America/New_York:20250427T130000
DTEND;TZID=America/New_York:20250427T160000
DTSTAMP:20260421T063540
CREATED:20250320T231450Z
LAST-MODIFIED:20250320T231450Z
UID:10004377-1745758800-1745769600@www.triumphbrewing.com
SUMMARY:John B. Thomas
DESCRIPTION:
URL:https://www.triumphbrewing.com/event/john-b-thomas/
LOCATION:Triumph New Hope\, 400 Union Square Drive\, New Hope\, PA\, 18938\, United States
CATEGORIES:New Hope
GEO:40.365873;-74.9543531
X-APPLE-STRUCTURED-LOCATION;VALUE=URI;X-ADDRESS=Triumph New Hope 400 Union Square Drive New Hope PA 18938 United States;X-APPLE-RADIUS=500;X-TITLE=400 Union Square Drive:geo:-74.9543531,40.365873
END:VEVENT
BEGIN:VEVENT
DTSTART;TZID=America/New_York:20250428T180000
DTEND;TZID=America/New_York:20250512T200000
DTSTAMP:20260421T063540
CREATED:20241126T203856Z
LAST-MODIFIED:20241126T203856Z
UID:10003944-1745863200-1747080000@www.triumphbrewing.com
SUMMARY:Jazz Arts Sessions
DESCRIPTION:
URL:https://www.triumphbrewing.com/event/jazz-arts-sessions/2025-04-28/
LOCATION:NJ
END:VEVENT
BEGIN:VEVENT
DTSTART;TZID=America/New_York:20250430T183000
DTEND;TZID=America/New_York:20250430T213000
DTSTAMP:20260421T063540
CREATED:20250403T202931Z
LAST-MODIFIED:20250403T202931Z
UID:10004381-1746037800-1746048600@www.triumphbrewing.com
SUMMARY:Gala performance & Fundraiser The Jazz Age: A Roaring 20's event
DESCRIPTION:Tickets
URL:https://www.triumphbrewing.com/event/gala-performance-fundraiser-the-jazz-age-a-roaring-20s-event/
LOCATION:Triumph Red Bank\, 1 Bridge Avenue\, Red Bank\, NJ\, 07701\, United States
CATEGORIES:Red Bank
END:VEVENT
BEGIN:VEVENT
DTSTART;TZID=America/New_York:20250501T193000
DTEND;TZID=America/New_York:20250501T223000
DTSTAMP:20260421T063540
CREATED:20250409T181213Z
LAST-MODIFIED:20250409T181213Z
UID:10004382-1746127800-1746138600@www.triumphbrewing.com
SUMMARY:Gabe Plotkin Trio
DESCRIPTION:
URL:https://www.triumphbrewing.com/event/gabe-plotkin-trio-29/
LOCATION:Triumph Red Bank\, 1 Bridge Avenue\, Red Bank\, NJ\, 07701\, United States
CATEGORIES:Red Bank
END:VEVENT
BEGIN:VEVENT
DTSTART;TZID=America/New_York:20250502T200000
DTEND;TZID=America/New_York:20250502T230000
DTSTAMP:20260421T063540
CREATED:20250422T183456Z
LAST-MODIFIED:20250422T183456Z
UID:10004401-1746216000-1746226800@www.triumphbrewing.com
SUMMARY:Bad Hombres
DESCRIPTION:
URL:https://www.triumphbrewing.com/event/bad-hombres/
LOCATION:Triumph New Hope\, 400 Union Square Drive\, New Hope\, PA\, 18938\, United States
CATEGORIES:New Hope
GEO:40.365873;-74.9543531
X-APPLE-STRUCTURED-LOCATION;VALUE=URI;X-ADDRESS=Triumph New Hope 400 Union Square Drive New Hope PA 18938 United States;X-APPLE-RADIUS=500;X-TITLE=400 Union Square Drive:geo:-74.9543531,40.365873
END:VEVENT
BEGIN:VEVENT
DTSTART;TZID=America/New_York:20250502T203000
DTEND;TZID=America/New_York:20250502T233000
DTSTAMP:20260421T063540
CREATED:20250409T181319Z
LAST-MODIFIED:20250409T181319Z
UID:10004383-1746217800-1746228600@www.triumphbrewing.com
SUMMARY:Tren Latino
DESCRIPTION:
URL:https://www.triumphbrewing.com/event/tren-latino-5/
LOCATION:Triumph Red Bank\, 1 Bridge Avenue\, Red Bank\, NJ\, 07701\, United States
CATEGORIES:Red Bank
END:VEVENT
BEGIN:VEVENT
DTSTART;TZID=America/New_York:20250503T170000
DTEND;TZID=America/New_York:20250503T200000
DTSTAMP:20260421T063540
CREATED:20250422T184430Z
LAST-MODIFIED:20250422T184430Z
UID:10004415-1746291600-1746302400@www.triumphbrewing.com
SUMMARY:Rodrigo Bonelli Trio
DESCRIPTION:
URL:https://www.triumphbrewing.com/event/rodrigo-bonelli-trio-3/
LOCATION:Triumph Princeton\, 20 Palmer Square East\, Princeton\, NJ\, 08542\, United States
CATEGORIES:Princeton
END:VEVENT
END:VCALENDAR